BEGIN:VCALENDAR
VERSION:2.0
PRODID:-//Blue Heron Tai Chi - ECPv6.15.18//NONSGML v1.0//EN
CALSCALE:GREGORIAN
METHOD:PUBLISH
X-WR-CALNAME:Blue Heron Tai Chi
X-ORIGINAL-URL:https://www.blueherontaichi.com
X-WR-CALDESC:Events for Blue Heron Tai Chi
REFRESH-INTERVAL;VALUE=DURATION:PT1H
X-Robots-Tag:noindex
X-PUBLISHED-TTL:PT1H
BEGIN:VTIMEZONE
TZID:America/Denver
BEGIN:DAYLIGHT
TZOFFSETFROM:-0700
TZOFFSETTO:-0600
TZNAME:MDT
DTSTART:20250309T090000
END:DAYLIGHT
BEGIN:STANDARD
TZOFFSETFROM:-0600
TZOFFSETTO:-0700
TZNAME:MST
DTSTART:20251102T080000
END:STANDARD
BEGIN:DAYLIGHT
TZOFFSETFROM:-0700
TZOFFSETTO:-0600
TZNAME:MDT
DTSTART:20260308T090000
END:DAYLIGHT
BEGIN:STANDARD
TZOFFSETFROM:-0600
TZOFFSETTO:-0700
TZNAME:MST
DTSTART:20261101T080000
END:STANDARD
BEGIN:DAYLIGHT
TZOFFSETFROM:-0700
TZOFFSETTO:-0600
TZNAME:MDT
DTSTART:20270314T090000
END:DAYLIGHT
BEGIN:STANDARD
TZOFFSETFROM:-0600
TZOFFSETTO:-0700
TZNAME:MST
DTSTART:20271107T080000
END:STANDARD
END:VTIMEZONE
BEGIN:VEVENT
DTSTART;TZID=America/Denver:20260617T123000
DTEND;TZID=America/Denver:20260617T133000
DTSTAMP:20260419T235854
CREATED:20260202T222726Z
LAST-MODIFIED:20260225T161237Z
UID:10019905-1781699400-1781703000@www.blueherontaichi.com
SUMMARY:Class: Yang Style Tai Chi.  Live\, in-person class at The Longmont Senior Center (12:30pm – 1:30pm MST) [May 11 – July 6]
DESCRIPTION:Registration #387217-00 (register via the Longmont Senior Center)\nDate: Mon & Wednesday\, May 11-July 6\nTime: 12:30-1:30 pm\nFee: $160 Longmont resident / $200 non-resident \nYang Style Tai Chi is one of the world’s most popular Tai Chi forms\, known for its slow\, flowing movements and wide-ranging health benefits. Studies show it can improve heart health\, arthritis\, osteoporosis\, balance\, sleep\, memory\, and breathing. This class teaches the foundational Yang movements and how to use them in daily life. \nInstructor: Steve Elliott\, stevekelliott@gmail.com.
URL:https://www.blueherontaichi.com/event/class-yang-style-tai-chi-live-in-person-class-at-the-longmont-senior-center-1230pm-130pm-mst-3-9-26-thru-4-29-26-2/2026-06-17/
LOCATION:The Longmont Senior Center\, 910 Longs Peak Ave\, Longmont\, CO\, 80501\, United States
ATTACH;FMTTYPE=image/png:https://www.blueherontaichi.com/wp-content/uploads/2022/06/blue-heron-logo-300.png
ORGANIZER;CN="Steve Elliott":MAILTO:steve@blueherontaichi.com
GEO:40.1711886;-105.1072435
X-APPLE-STRUCTURED-LOCATION;VALUE=URI;X-ADDRESS=The Longmont Senior Center 910 Longs Peak Ave Longmont CO 80501 United States;X-APPLE-RADIUS=500;X-TITLE=910 Longs Peak Ave:geo:-105.1072435,40.1711886
END:VEVENT
BEGIN:VEVENT
DTSTART;TZID=America/Denver:20260622T123000
DTEND;TZID=America/Denver:20260622T133000
DTSTAMP:20260419T235854
CREATED:20260202T222726Z
LAST-MODIFIED:20260225T161237Z
UID:10019906-1782131400-1782135000@www.blueherontaichi.com
SUMMARY:Class: Yang Style Tai Chi.  Live\, in-person class at The Longmont Senior Center (12:30pm – 1:30pm MST) [May 11 – July 6]
DESCRIPTION:Registration #387217-00 (register via the Longmont Senior Center)\nDate: Mon & Wednesday\, May 11-July 6\nTime: 12:30-1:30 pm\nFee: $160 Longmont resident / $200 non-resident \nYang Style Tai Chi is one of the world’s most popular Tai Chi forms\, known for its slow\, flowing movements and wide-ranging health benefits. Studies show it can improve heart health\, arthritis\, osteoporosis\, balance\, sleep\, memory\, and breathing. This class teaches the foundational Yang movements and how to use them in daily life. \nInstructor: Steve Elliott\, stevekelliott@gmail.com.
URL:https://www.blueherontaichi.com/event/class-yang-style-tai-chi-live-in-person-class-at-the-longmont-senior-center-1230pm-130pm-mst-3-9-26-thru-4-29-26-2/2026-06-22/
LOCATION:The Longmont Senior Center\, 910 Longs Peak Ave\, Longmont\, CO\, 80501\, United States
ATTACH;FMTTYPE=image/png:https://www.blueherontaichi.com/wp-content/uploads/2022/06/blue-heron-logo-300.png
ORGANIZER;CN="Steve Elliott":MAILTO:steve@blueherontaichi.com
GEO:40.1711886;-105.1072435
X-APPLE-STRUCTURED-LOCATION;VALUE=URI;X-ADDRESS=The Longmont Senior Center 910 Longs Peak Ave Longmont CO 80501 United States;X-APPLE-RADIUS=500;X-TITLE=910 Longs Peak Ave:geo:-105.1072435,40.1711886
END:VEVENT
BEGIN:VEVENT
DTSTART;TZID=America/Denver:20260624T123000
DTEND;TZID=America/Denver:20260624T133000
DTSTAMP:20260419T235854
CREATED:20260202T222726Z
LAST-MODIFIED:20260225T161237Z
UID:10019907-1782304200-1782307800@www.blueherontaichi.com
SUMMARY:Class: Yang Style Tai Chi.  Live\, in-person class at The Longmont Senior Center (12:30pm – 1:30pm MST) [May 11 – July 6]
DESCRIPTION:Registration #387217-00 (register via the Longmont Senior Center)\nDate: Mon & Wednesday\, May 11-July 6\nTime: 12:30-1:30 pm\nFee: $160 Longmont resident / $200 non-resident \nYang Style Tai Chi is one of the world’s most popular Tai Chi forms\, known for its slow\, flowing movements and wide-ranging health benefits. Studies show it can improve heart health\, arthritis\, osteoporosis\, balance\, sleep\, memory\, and breathing. This class teaches the foundational Yang movements and how to use them in daily life. \nInstructor: Steve Elliott\, stevekelliott@gmail.com.
URL:https://www.blueherontaichi.com/event/class-yang-style-tai-chi-live-in-person-class-at-the-longmont-senior-center-1230pm-130pm-mst-3-9-26-thru-4-29-26-2/2026-06-24/
LOCATION:The Longmont Senior Center\, 910 Longs Peak Ave\, Longmont\, CO\, 80501\, United States
ATTACH;FMTTYPE=image/png:https://www.blueherontaichi.com/wp-content/uploads/2022/06/blue-heron-logo-300.png
ORGANIZER;CN="Steve Elliott":MAILTO:steve@blueherontaichi.com
GEO:40.1711886;-105.1072435
X-APPLE-STRUCTURED-LOCATION;VALUE=URI;X-ADDRESS=The Longmont Senior Center 910 Longs Peak Ave Longmont CO 80501 United States;X-APPLE-RADIUS=500;X-TITLE=910 Longs Peak Ave:geo:-105.1072435,40.1711886
END:VEVENT
BEGIN:VEVENT
DTSTART;TZID=America/Denver:20260629T123000
DTEND;TZID=America/Denver:20260629T133000
DTSTAMP:20260419T235855
CREATED:20260202T222726Z
LAST-MODIFIED:20260225T161237Z
UID:10019908-1782736200-1782739800@www.blueherontaichi.com
SUMMARY:Class: Yang Style Tai Chi.  Live\, in-person class at The Longmont Senior Center (12:30pm – 1:30pm MST) [May 11 – July 6]
DESCRIPTION:Registration #387217-00 (register via the Longmont Senior Center)\nDate: Mon & Wednesday\, May 11-July 6\nTime: 12:30-1:30 pm\nFee: $160 Longmont resident / $200 non-resident \nYang Style Tai Chi is one of the world’s most popular Tai Chi forms\, known for its slow\, flowing movements and wide-ranging health benefits. Studies show it can improve heart health\, arthritis\, osteoporosis\, balance\, sleep\, memory\, and breathing. This class teaches the foundational Yang movements and how to use them in daily life. \nInstructor: Steve Elliott\, stevekelliott@gmail.com.
URL:https://www.blueherontaichi.com/event/class-yang-style-tai-chi-live-in-person-class-at-the-longmont-senior-center-1230pm-130pm-mst-3-9-26-thru-4-29-26-2/2026-06-29/
LOCATION:The Longmont Senior Center\, 910 Longs Peak Ave\, Longmont\, CO\, 80501\, United States
ATTACH;FMTTYPE=image/png:https://www.blueherontaichi.com/wp-content/uploads/2022/06/blue-heron-logo-300.png
ORGANIZER;CN="Steve Elliott":MAILTO:steve@blueherontaichi.com
GEO:40.1711886;-105.1072435
X-APPLE-STRUCTURED-LOCATION;VALUE=URI;X-ADDRESS=The Longmont Senior Center 910 Longs Peak Ave Longmont CO 80501 United States;X-APPLE-RADIUS=500;X-TITLE=910 Longs Peak Ave:geo:-105.1072435,40.1711886
END:VEVENT
BEGIN:VEVENT
DTSTART;TZID=America/Denver:20260701T123000
DTEND;TZID=America/Denver:20260701T133000
DTSTAMP:20260419T235855
CREATED:20260202T222726Z
LAST-MODIFIED:20260225T161237Z
UID:10019909-1782909000-1782912600@www.blueherontaichi.com
SUMMARY:Class: Yang Style Tai Chi.  Live\, in-person class at The Longmont Senior Center (12:30pm – 1:30pm MST) [May 11 – July 6]
DESCRIPTION:Registration #387217-00 (register via the Longmont Senior Center)\nDate: Mon & Wednesday\, May 11-July 6\nTime: 12:30-1:30 pm\nFee: $160 Longmont resident / $200 non-resident \nYang Style Tai Chi is one of the world’s most popular Tai Chi forms\, known for its slow\, flowing movements and wide-ranging health benefits. Studies show it can improve heart health\, arthritis\, osteoporosis\, balance\, sleep\, memory\, and breathing. This class teaches the foundational Yang movements and how to use them in daily life. \nInstructor: Steve Elliott\, stevekelliott@gmail.com.
URL:https://www.blueherontaichi.com/event/class-yang-style-tai-chi-live-in-person-class-at-the-longmont-senior-center-1230pm-130pm-mst-3-9-26-thru-4-29-26-2/2026-07-01/
LOCATION:The Longmont Senior Center\, 910 Longs Peak Ave\, Longmont\, CO\, 80501\, United States
ATTACH;FMTTYPE=image/png:https://www.blueherontaichi.com/wp-content/uploads/2022/06/blue-heron-logo-300.png
ORGANIZER;CN="Steve Elliott":MAILTO:steve@blueherontaichi.com
GEO:40.1711886;-105.1072435
X-APPLE-STRUCTURED-LOCATION;VALUE=URI;X-ADDRESS=The Longmont Senior Center 910 Longs Peak Ave Longmont CO 80501 United States;X-APPLE-RADIUS=500;X-TITLE=910 Longs Peak Ave:geo:-105.1072435,40.1711886
END:VEVENT
BEGIN:VEVENT
DTSTART;TZID=America/Denver:20260706T123000
DTEND;TZID=America/Denver:20260706T133000
DTSTAMP:20260419T235855
CREATED:20260202T222726Z
LAST-MODIFIED:20260225T161237Z
UID:10019910-1783341000-1783344600@www.blueherontaichi.com
SUMMARY:Class: Yang Style Tai Chi.  Live\, in-person class at The Longmont Senior Center (12:30pm – 1:30pm MST) [May 11 – July 6]
DESCRIPTION:Registration #387217-00 (register via the Longmont Senior Center)\nDate: Mon & Wednesday\, May 11-July 6\nTime: 12:30-1:30 pm\nFee: $160 Longmont resident / $200 non-resident \nYang Style Tai Chi is one of the world’s most popular Tai Chi forms\, known for its slow\, flowing movements and wide-ranging health benefits. Studies show it can improve heart health\, arthritis\, osteoporosis\, balance\, sleep\, memory\, and breathing. This class teaches the foundational Yang movements and how to use them in daily life. \nInstructor: Steve Elliott\, stevekelliott@gmail.com.
URL:https://www.blueherontaichi.com/event/class-yang-style-tai-chi-live-in-person-class-at-the-longmont-senior-center-1230pm-130pm-mst-3-9-26-thru-4-29-26-2/2026-07-06/
LOCATION:The Longmont Senior Center\, 910 Longs Peak Ave\, Longmont\, CO\, 80501\, United States
ATTACH;FMTTYPE=image/png:https://www.blueherontaichi.com/wp-content/uploads/2022/06/blue-heron-logo-300.png
ORGANIZER;CN="Steve Elliott":MAILTO:steve@blueherontaichi.com
GEO:40.1711886;-105.1072435
X-APPLE-STRUCTURED-LOCATION;VALUE=URI;X-ADDRESS=The Longmont Senior Center 910 Longs Peak Ave Longmont CO 80501 United States;X-APPLE-RADIUS=500;X-TITLE=910 Longs Peak Ave:geo:-105.1072435,40.1711886
END:VEVENT
END:VCALENDAR