BEGIN:VCALENDAR
VERSION:2.0
PRODID:-//Blue Heron Tai Chi - ECPv6.15.18//NONSGML v1.0//EN
CALSCALE:GREGORIAN
METHOD:PUBLISH
X-ORIGINAL-URL:https://www.blueherontaichi.com
X-WR-CALDESC:Events for Blue Heron Tai Chi
REFRESH-INTERVAL;VALUE=DURATION:PT1H
X-Robots-Tag:noindex
X-PUBLISHED-TTL:PT1H
BEGIN:VTIMEZONE
TZID:America/Denver
BEGIN:DAYLIGHT
TZOFFSETFROM:-0700
TZOFFSETTO:-0600
TZNAME:MDT
DTSTART:20250309T090000
END:DAYLIGHT
BEGIN:STANDARD
TZOFFSETFROM:-0600
TZOFFSETTO:-0700
TZNAME:MST
DTSTART:20251102T080000
END:STANDARD
BEGIN:DAYLIGHT
TZOFFSETFROM:-0700
TZOFFSETTO:-0600
TZNAME:MDT
DTSTART:20260308T090000
END:DAYLIGHT
BEGIN:STANDARD
TZOFFSETFROM:-0600
TZOFFSETTO:-0700
TZNAME:MST
DTSTART:20261101T080000
END:STANDARD
BEGIN:DAYLIGHT
TZOFFSETFROM:-0700
TZOFFSETTO:-0600
TZNAME:MDT
DTSTART:20270314T090000
END:DAYLIGHT
BEGIN:STANDARD
TZOFFSETFROM:-0600
TZOFFSETTO:-0700
TZNAME:MST
DTSTART:20271107T080000
END:STANDARD
END:VTIMEZONE
BEGIN:VEVENT
DTSTART;TZID=America/Denver:20260914T104500
DTEND;TZID=America/Denver:20260914T114500
DTSTAMP:20260420T123427
CREATED:20260202T202707Z
LAST-MODIFIED:20260202T202707Z
UID:10019880-1789382700-1789386300@www.blueherontaichi.com
SUMMARY:Class: Push Hands (10:45 am -  11:45 am MST)
DESCRIPTION:Class: Push Hands (10:45 am – 11:45 am MST) \nInstructor: Steve Elliott\, stevekelliott@gmail.com
URL:https://www.blueherontaichi.com/event/class-push-hands-1045-am-1145-am-mst/2026-09-14/
LOCATION:Garage Studio (Behind The Yellow House)\, 800 Martin St\, Longmont\, 80501\, United States
ATTACH;FMTTYPE=image/png:https://www.blueherontaichi.com/wp-content/uploads/2022/06/blue-heron-logo-300.png
ORGANIZER;CN="Steve Elliott":MAILTO:steve@blueherontaichi.com
GEO:40.1723114;-105.0929393
X-APPLE-STRUCTURED-LOCATION;VALUE=URI;X-ADDRESS=Garage Studio (Behind The Yellow House) 800 Martin St Longmont 80501 United States;X-APPLE-RADIUS=500;X-TITLE=800 Martin St:geo:-105.0929393,40.1723114
END:VEVENT
BEGIN:VEVENT
DTSTART;TZID=America/Denver:20260921T104500
DTEND;TZID=America/Denver:20260921T114500
DTSTAMP:20260420T123427
CREATED:20260202T202707Z
LAST-MODIFIED:20260202T202707Z
UID:10019881-1789987500-1789991100@www.blueherontaichi.com
SUMMARY:Class: Push Hands (10:45 am -  11:45 am MST)
DESCRIPTION:Class: Push Hands (10:45 am – 11:45 am MST) \nInstructor: Steve Elliott\, stevekelliott@gmail.com
URL:https://www.blueherontaichi.com/event/class-push-hands-1045-am-1145-am-mst/2026-09-21/
LOCATION:Garage Studio (Behind The Yellow House)\, 800 Martin St\, Longmont\, 80501\, United States
ATTACH;FMTTYPE=image/png:https://www.blueherontaichi.com/wp-content/uploads/2022/06/blue-heron-logo-300.png
ORGANIZER;CN="Steve Elliott":MAILTO:steve@blueherontaichi.com
GEO:40.1723114;-105.0929393
X-APPLE-STRUCTURED-LOCATION;VALUE=URI;X-ADDRESS=Garage Studio (Behind The Yellow House) 800 Martin St Longmont 80501 United States;X-APPLE-RADIUS=500;X-TITLE=800 Martin St:geo:-105.0929393,40.1723114
END:VEVENT
BEGIN:VEVENT
DTSTART;TZID=America/Denver:20260928T104500
DTEND;TZID=America/Denver:20260928T114500
DTSTAMP:20260420T123427
CREATED:20260202T202707Z
LAST-MODIFIED:20260202T202707Z
UID:10019882-1790592300-1790595900@www.blueherontaichi.com
SUMMARY:Class: Push Hands (10:45 am -  11:45 am MST)
DESCRIPTION:Class: Push Hands (10:45 am – 11:45 am MST) \nInstructor: Steve Elliott\, stevekelliott@gmail.com
URL:https://www.blueherontaichi.com/event/class-push-hands-1045-am-1145-am-mst/2026-09-28/
LOCATION:Garage Studio (Behind The Yellow House)\, 800 Martin St\, Longmont\, 80501\, United States
ATTACH;FMTTYPE=image/png:https://www.blueherontaichi.com/wp-content/uploads/2022/06/blue-heron-logo-300.png
ORGANIZER;CN="Steve Elliott":MAILTO:steve@blueherontaichi.com
GEO:40.1723114;-105.0929393
X-APPLE-STRUCTURED-LOCATION;VALUE=URI;X-ADDRESS=Garage Studio (Behind The Yellow House) 800 Martin St Longmont 80501 United States;X-APPLE-RADIUS=500;X-TITLE=800 Martin St:geo:-105.0929393,40.1723114
END:VEVENT
BEGIN:VEVENT
DTSTART;TZID=America/Denver:20261005T104500
DTEND;TZID=America/Denver:20261005T114500
DTSTAMP:20260420T123427
CREATED:20260202T202707Z
LAST-MODIFIED:20260202T202707Z
UID:10019883-1791197100-1791200700@www.blueherontaichi.com
SUMMARY:Class: Push Hands (10:45 am -  11:45 am MST)
DESCRIPTION:Class: Push Hands (10:45 am – 11:45 am MST) \nInstructor: Steve Elliott\, stevekelliott@gmail.com
URL:https://www.blueherontaichi.com/event/class-push-hands-1045-am-1145-am-mst/2026-10-05/
LOCATION:Garage Studio (Behind The Yellow House)\, 800 Martin St\, Longmont\, 80501\, United States
ATTACH;FMTTYPE=image/png:https://www.blueherontaichi.com/wp-content/uploads/2022/06/blue-heron-logo-300.png
ORGANIZER;CN="Steve Elliott":MAILTO:steve@blueherontaichi.com
GEO:40.1723114;-105.0929393
X-APPLE-STRUCTURED-LOCATION;VALUE=URI;X-ADDRESS=Garage Studio (Behind The Yellow House) 800 Martin St Longmont 80501 United States;X-APPLE-RADIUS=500;X-TITLE=800 Martin St:geo:-105.0929393,40.1723114
END:VEVENT
BEGIN:VEVENT
DTSTART;TZID=America/Denver:20261012T104500
DTEND;TZID=America/Denver:20261012T114500
DTSTAMP:20260420T123427
CREATED:20260202T202707Z
LAST-MODIFIED:20260202T202707Z
UID:10019884-1791801900-1791805500@www.blueherontaichi.com
SUMMARY:Class: Push Hands (10:45 am -  11:45 am MST)
DESCRIPTION:Class: Push Hands (10:45 am – 11:45 am MST) \nInstructor: Steve Elliott\, stevekelliott@gmail.com
URL:https://www.blueherontaichi.com/event/class-push-hands-1045-am-1145-am-mst/2026-10-12/
LOCATION:Garage Studio (Behind The Yellow House)\, 800 Martin St\, Longmont\, 80501\, United States
ATTACH;FMTTYPE=image/png:https://www.blueherontaichi.com/wp-content/uploads/2022/06/blue-heron-logo-300.png
ORGANIZER;CN="Steve Elliott":MAILTO:steve@blueherontaichi.com
GEO:40.1723114;-105.0929393
X-APPLE-STRUCTURED-LOCATION;VALUE=URI;X-ADDRESS=Garage Studio (Behind The Yellow House) 800 Martin St Longmont 80501 United States;X-APPLE-RADIUS=500;X-TITLE=800 Martin St:geo:-105.0929393,40.1723114
END:VEVENT
BEGIN:VEVENT
DTSTART;TZID=America/Denver:20261019T104500
DTEND;TZID=America/Denver:20261019T114500
DTSTAMP:20260420T123427
CREATED:20260202T202707Z
LAST-MODIFIED:20260202T202707Z
UID:10019885-1792406700-1792410300@www.blueherontaichi.com
SUMMARY:Class: Push Hands (10:45 am -  11:45 am MST)
DESCRIPTION:Class: Push Hands (10:45 am – 11:45 am MST) \nInstructor: Steve Elliott\, stevekelliott@gmail.com
URL:https://www.blueherontaichi.com/event/class-push-hands-1045-am-1145-am-mst/2026-10-19/
LOCATION:Garage Studio (Behind The Yellow House)\, 800 Martin St\, Longmont\, 80501\, United States
ATTACH;FMTTYPE=image/png:https://www.blueherontaichi.com/wp-content/uploads/2022/06/blue-heron-logo-300.png
ORGANIZER;CN="Steve Elliott":MAILTO:steve@blueherontaichi.com
GEO:40.1723114;-105.0929393
X-APPLE-STRUCTURED-LOCATION;VALUE=URI;X-ADDRESS=Garage Studio (Behind The Yellow House) 800 Martin St Longmont 80501 United States;X-APPLE-RADIUS=500;X-TITLE=800 Martin St:geo:-105.0929393,40.1723114
END:VEVENT
BEGIN:VEVENT
DTSTART;TZID=America/Denver:20261026T104500
DTEND;TZID=America/Denver:20261026T114500
DTSTAMP:20260420T123427
CREATED:20260202T202707Z
LAST-MODIFIED:20260202T202707Z
UID:10019886-1793011500-1793015100@www.blueherontaichi.com
SUMMARY:Class: Push Hands (10:45 am -  11:45 am MST)
DESCRIPTION:Class: Push Hands (10:45 am – 11:45 am MST) \nInstructor: Steve Elliott\, stevekelliott@gmail.com
URL:https://www.blueherontaichi.com/event/class-push-hands-1045-am-1145-am-mst/2026-10-26/
LOCATION:Garage Studio (Behind The Yellow House)\, 800 Martin St\, Longmont\, 80501\, United States
ATTACH;FMTTYPE=image/png:https://www.blueherontaichi.com/wp-content/uploads/2022/06/blue-heron-logo-300.png
ORGANIZER;CN="Steve Elliott":MAILTO:steve@blueherontaichi.com
GEO:40.1723114;-105.0929393
X-APPLE-STRUCTURED-LOCATION;VALUE=URI;X-ADDRESS=Garage Studio (Behind The Yellow House) 800 Martin St Longmont 80501 United States;X-APPLE-RADIUS=500;X-TITLE=800 Martin St:geo:-105.0929393,40.1723114
END:VEVENT
BEGIN:VEVENT
DTSTART;TZID=America/Denver:20261102T104500
DTEND;TZID=America/Denver:20261102T114500
DTSTAMP:20260420T123427
CREATED:20260202T202707Z
LAST-MODIFIED:20260202T202707Z
UID:10019887-1793616300-1793619900@www.blueherontaichi.com
SUMMARY:Class: Push Hands (10:45 am -  11:45 am MST)
DESCRIPTION:Class: Push Hands (10:45 am – 11:45 am MST) \nInstructor: Steve Elliott\, stevekelliott@gmail.com
URL:https://www.blueherontaichi.com/event/class-push-hands-1045-am-1145-am-mst/2026-11-02/
LOCATION:Garage Studio (Behind The Yellow House)\, 800 Martin St\, Longmont\, 80501\, United States
ATTACH;FMTTYPE=image/png:https://www.blueherontaichi.com/wp-content/uploads/2022/06/blue-heron-logo-300.png
ORGANIZER;CN="Steve Elliott":MAILTO:steve@blueherontaichi.com
GEO:40.1723114;-105.0929393
X-APPLE-STRUCTURED-LOCATION;VALUE=URI;X-ADDRESS=Garage Studio (Behind The Yellow House) 800 Martin St Longmont 80501 United States;X-APPLE-RADIUS=500;X-TITLE=800 Martin St:geo:-105.0929393,40.1723114
END:VEVENT
BEGIN:VEVENT
DTSTART;TZID=America/Denver:20261109T104500
DTEND;TZID=America/Denver:20261109T114500
DTSTAMP:20260420T123427
CREATED:20260202T202707Z
LAST-MODIFIED:20260202T202707Z
UID:10019888-1794221100-1794224700@www.blueherontaichi.com
SUMMARY:Class: Push Hands (10:45 am -  11:45 am MST)
DESCRIPTION:Class: Push Hands (10:45 am – 11:45 am MST) \nInstructor: Steve Elliott\, stevekelliott@gmail.com
URL:https://www.blueherontaichi.com/event/class-push-hands-1045-am-1145-am-mst/2026-11-09/
LOCATION:Garage Studio (Behind The Yellow House)\, 800 Martin St\, Longmont\, 80501\, United States
ATTACH;FMTTYPE=image/png:https://www.blueherontaichi.com/wp-content/uploads/2022/06/blue-heron-logo-300.png
ORGANIZER;CN="Steve Elliott":MAILTO:steve@blueherontaichi.com
GEO:40.1723114;-105.0929393
X-APPLE-STRUCTURED-LOCATION;VALUE=URI;X-ADDRESS=Garage Studio (Behind The Yellow House) 800 Martin St Longmont 80501 United States;X-APPLE-RADIUS=500;X-TITLE=800 Martin St:geo:-105.0929393,40.1723114
END:VEVENT
BEGIN:VEVENT
DTSTART;TZID=America/Denver:20261116T104500
DTEND;TZID=America/Denver:20261116T114500
DTSTAMP:20260420T123427
CREATED:20260202T202707Z
LAST-MODIFIED:20260202T202707Z
UID:10019889-1794825900-1794829500@www.blueherontaichi.com
SUMMARY:Class: Push Hands (10:45 am -  11:45 am MST)
DESCRIPTION:Class: Push Hands (10:45 am – 11:45 am MST) \nInstructor: Steve Elliott\, stevekelliott@gmail.com
URL:https://www.blueherontaichi.com/event/class-push-hands-1045-am-1145-am-mst/2026-11-16/
LOCATION:Garage Studio (Behind The Yellow House)\, 800 Martin St\, Longmont\, 80501\, United States
ATTACH;FMTTYPE=image/png:https://www.blueherontaichi.com/wp-content/uploads/2022/06/blue-heron-logo-300.png
ORGANIZER;CN="Steve Elliott":MAILTO:steve@blueherontaichi.com
GEO:40.1723114;-105.0929393
X-APPLE-STRUCTURED-LOCATION;VALUE=URI;X-ADDRESS=Garage Studio (Behind The Yellow House) 800 Martin St Longmont 80501 United States;X-APPLE-RADIUS=500;X-TITLE=800 Martin St:geo:-105.0929393,40.1723114
END:VEVENT
BEGIN:VEVENT
DTSTART;TZID=America/Denver:20261123T104500
DTEND;TZID=America/Denver:20261123T114500
DTSTAMP:20260420T123427
CREATED:20260202T202707Z
LAST-MODIFIED:20260202T202707Z
UID:10019890-1795430700-1795434300@www.blueherontaichi.com
SUMMARY:Class: Push Hands (10:45 am -  11:45 am MST)
DESCRIPTION:Class: Push Hands (10:45 am – 11:45 am MST) \nInstructor: Steve Elliott\, stevekelliott@gmail.com
URL:https://www.blueherontaichi.com/event/class-push-hands-1045-am-1145-am-mst/2026-11-23/
LOCATION:Garage Studio (Behind The Yellow House)\, 800 Martin St\, Longmont\, 80501\, United States
ATTACH;FMTTYPE=image/png:https://www.blueherontaichi.com/wp-content/uploads/2022/06/blue-heron-logo-300.png
ORGANIZER;CN="Steve Elliott":MAILTO:steve@blueherontaichi.com
GEO:40.1723114;-105.0929393
X-APPLE-STRUCTURED-LOCATION;VALUE=URI;X-ADDRESS=Garage Studio (Behind The Yellow House) 800 Martin St Longmont 80501 United States;X-APPLE-RADIUS=500;X-TITLE=800 Martin St:geo:-105.0929393,40.1723114
END:VEVENT
BEGIN:VEVENT
DTSTART;TZID=America/Denver:20261130T104500
DTEND;TZID=America/Denver:20261130T114500
DTSTAMP:20260420T123427
CREATED:20260202T202707Z
LAST-MODIFIED:20260202T202707Z
UID:10019891-1796035500-1796039100@www.blueherontaichi.com
SUMMARY:Class: Push Hands (10:45 am -  11:45 am MST)
DESCRIPTION:Class: Push Hands (10:45 am – 11:45 am MST) \nInstructor: Steve Elliott\, stevekelliott@gmail.com
URL:https://www.blueherontaichi.com/event/class-push-hands-1045-am-1145-am-mst/2026-11-30/
LOCATION:Garage Studio (Behind The Yellow House)\, 800 Martin St\, Longmont\, 80501\, United States
ATTACH;FMTTYPE=image/png:https://www.blueherontaichi.com/wp-content/uploads/2022/06/blue-heron-logo-300.png
ORGANIZER;CN="Steve Elliott":MAILTO:steve@blueherontaichi.com
GEO:40.1723114;-105.0929393
X-APPLE-STRUCTURED-LOCATION;VALUE=URI;X-ADDRESS=Garage Studio (Behind The Yellow House) 800 Martin St Longmont 80501 United States;X-APPLE-RADIUS=500;X-TITLE=800 Martin St:geo:-105.0929393,40.1723114
END:VEVENT
BEGIN:VEVENT
DTSTART;TZID=America/Denver:20261207T104500
DTEND;TZID=America/Denver:20261207T114500
DTSTAMP:20260420T123427
CREATED:20260202T202707Z
LAST-MODIFIED:20260202T202707Z
UID:10019892-1796640300-1796643900@www.blueherontaichi.com
SUMMARY:Class: Push Hands (10:45 am -  11:45 am MST)
DESCRIPTION:Class: Push Hands (10:45 am – 11:45 am MST) \nInstructor: Steve Elliott\, stevekelliott@gmail.com
URL:https://www.blueherontaichi.com/event/class-push-hands-1045-am-1145-am-mst/2026-12-07/
LOCATION:Garage Studio (Behind The Yellow House)\, 800 Martin St\, Longmont\, 80501\, United States
ATTACH;FMTTYPE=image/png:https://www.blueherontaichi.com/wp-content/uploads/2022/06/blue-heron-logo-300.png
ORGANIZER;CN="Steve Elliott":MAILTO:steve@blueherontaichi.com
GEO:40.1723114;-105.0929393
X-APPLE-STRUCTURED-LOCATION;VALUE=URI;X-ADDRESS=Garage Studio (Behind The Yellow House) 800 Martin St Longmont 80501 United States;X-APPLE-RADIUS=500;X-TITLE=800 Martin St:geo:-105.0929393,40.1723114
END:VEVENT
BEGIN:VEVENT
DTSTART;TZID=America/Denver:20261214T104500
DTEND;TZID=America/Denver:20261214T114500
DTSTAMP:20260420T123427
CREATED:20260202T202707Z
LAST-MODIFIED:20260202T202707Z
UID:10019893-1797245100-1797248700@www.blueherontaichi.com
SUMMARY:Class: Push Hands (10:45 am -  11:45 am MST)
DESCRIPTION:Class: Push Hands (10:45 am – 11:45 am MST) \nInstructor: Steve Elliott\, stevekelliott@gmail.com
URL:https://www.blueherontaichi.com/event/class-push-hands-1045-am-1145-am-mst/2026-12-14/
LOCATION:Garage Studio (Behind The Yellow House)\, 800 Martin St\, Longmont\, 80501\, United States
ATTACH;FMTTYPE=image/png:https://www.blueherontaichi.com/wp-content/uploads/2022/06/blue-heron-logo-300.png
ORGANIZER;CN="Steve Elliott":MAILTO:steve@blueherontaichi.com
GEO:40.1723114;-105.0929393
X-APPLE-STRUCTURED-LOCATION;VALUE=URI;X-ADDRESS=Garage Studio (Behind The Yellow House) 800 Martin St Longmont 80501 United States;X-APPLE-RADIUS=500;X-TITLE=800 Martin St:geo:-105.0929393,40.1723114
END:VEVENT
BEGIN:VEVENT
DTSTART;TZID=America/Denver:20261221T104500
DTEND;TZID=America/Denver:20261221T114500
DTSTAMP:20260420T123427
CREATED:20260202T202707Z
LAST-MODIFIED:20260202T202707Z
UID:10019894-1797849900-1797853500@www.blueherontaichi.com
SUMMARY:Class: Push Hands (10:45 am -  11:45 am MST)
DESCRIPTION:Class: Push Hands (10:45 am – 11:45 am MST) \nInstructor: Steve Elliott\, stevekelliott@gmail.com
URL:https://www.blueherontaichi.com/event/class-push-hands-1045-am-1145-am-mst/2026-12-21/
LOCATION:Garage Studio (Behind The Yellow House)\, 800 Martin St\, Longmont\, 80501\, United States
ATTACH;FMTTYPE=image/png:https://www.blueherontaichi.com/wp-content/uploads/2022/06/blue-heron-logo-300.png
ORGANIZER;CN="Steve Elliott":MAILTO:steve@blueherontaichi.com
GEO:40.1723114;-105.0929393
X-APPLE-STRUCTURED-LOCATION;VALUE=URI;X-ADDRESS=Garage Studio (Behind The Yellow House) 800 Martin St Longmont 80501 United States;X-APPLE-RADIUS=500;X-TITLE=800 Martin St:geo:-105.0929393,40.1723114
END:VEVENT
BEGIN:VEVENT
DTSTART;TZID=America/Denver:20261228T104500
DTEND;TZID=America/Denver:20261228T114500
DTSTAMP:20260420T123427
CREATED:20260202T202707Z
LAST-MODIFIED:20260202T202707Z
UID:10019895-1798454700-1798458300@www.blueherontaichi.com
SUMMARY:Class: Push Hands (10:45 am -  11:45 am MST)
DESCRIPTION:Class: Push Hands (10:45 am – 11:45 am MST) \nInstructor: Steve Elliott\, stevekelliott@gmail.com
URL:https://www.blueherontaichi.com/event/class-push-hands-1045-am-1145-am-mst/2026-12-28/
LOCATION:Garage Studio (Behind The Yellow House)\, 800 Martin St\, Longmont\, 80501\, United States
ATTACH;FMTTYPE=image/png:https://www.blueherontaichi.com/wp-content/uploads/2022/06/blue-heron-logo-300.png
ORGANIZER;CN="Steve Elliott":MAILTO:steve@blueherontaichi.com
GEO:40.1723114;-105.0929393
X-APPLE-STRUCTURED-LOCATION;VALUE=URI;X-ADDRESS=Garage Studio (Behind The Yellow House) 800 Martin St Longmont 80501 United States;X-APPLE-RADIUS=500;X-TITLE=800 Martin St:geo:-105.0929393,40.1723114
END:VEVENT
END:VCALENDAR