BEGIN:VCALENDAR
VERSION:2.0
PRODID:-//Blue Heron Tai Chi - ECPv6.15.18//NONSGML v1.0//EN
CALSCALE:GREGORIAN
METHOD:PUBLISH
X-WR-CALNAME:Blue Heron Tai Chi
X-ORIGINAL-URL:https://www.blueherontaichi.com
X-WR-CALDESC:Events for Blue Heron Tai Chi
REFRESH-INTERVAL;VALUE=DURATION:PT1H
X-Robots-Tag:noindex
X-PUBLISHED-TTL:PT1H
BEGIN:VTIMEZONE
TZID:America/Denver
BEGIN:DAYLIGHT
TZOFFSETFROM:-0700
TZOFFSETTO:-0600
TZNAME:MDT
DTSTART:20250309T090000
END:DAYLIGHT
BEGIN:STANDARD
TZOFFSETFROM:-0600
TZOFFSETTO:-0700
TZNAME:MST
DTSTART:20251102T080000
END:STANDARD
BEGIN:DAYLIGHT
TZOFFSETFROM:-0700
TZOFFSETTO:-0600
TZNAME:MDT
DTSTART:20260308T090000
END:DAYLIGHT
BEGIN:STANDARD
TZOFFSETFROM:-0600
TZOFFSETTO:-0700
TZNAME:MST
DTSTART:20261101T080000
END:STANDARD
BEGIN:DAYLIGHT
TZOFFSETFROM:-0700
TZOFFSETTO:-0600
TZNAME:MDT
DTSTART:20270314T090000
END:DAYLIGHT
BEGIN:STANDARD
TZOFFSETFROM:-0600
TZOFFSETTO:-0700
TZNAME:MST
DTSTART:20271107T080000
END:STANDARD
END:VTIMEZONE
BEGIN:VEVENT
DTSTART;TZID=America/Denver:20260413T104500
DTEND;TZID=America/Denver:20260413T114500
DTSTAMP:20260420T002424
CREATED:20260202T202707Z
LAST-MODIFIED:20260202T202707Z
UID:10019858-1776077100-1776080700@www.blueherontaichi.com
SUMMARY:Class: Push Hands (10:45 am -  11:45 am MST)
DESCRIPTION:Class: Push Hands (10:45 am – 11:45 am MST) \nInstructor: Steve Elliott\, stevekelliott@gmail.com
URL:https://www.blueherontaichi.com/event/class-push-hands-1045-am-1145-am-mst/2026-04-13/
LOCATION:Garage Studio (Behind The Yellow House)\, 800 Martin St\, Longmont\, 80501\, United States
ATTACH;FMTTYPE=image/png:https://www.blueherontaichi.com/wp-content/uploads/2022/06/blue-heron-logo-300.png
ORGANIZER;CN="Steve Elliott":MAILTO:steve@blueherontaichi.com
GEO:40.1723114;-105.0929393
X-APPLE-STRUCTURED-LOCATION;VALUE=URI;X-ADDRESS=Garage Studio (Behind The Yellow House) 800 Martin St Longmont 80501 United States;X-APPLE-RADIUS=500;X-TITLE=800 Martin St:geo:-105.0929393,40.1723114
END:VEVENT
END:VCALENDAR